BEGIN:VCALENDAR
VERSION:2.0
PRODID:patricia-peveling.de
METHOD:PUBLISH
BEGIN:VTIMEZONE
TZID:Europe/Berlin
X-LIC-LOCATION:Europe/Berlin
BEGIN:DAYLIGHT
TZOFFSETFROM:+0100
TZOFFSETTO:+0200
TZNAME:CEST
DTSTART:19700329T020000
RRULE:FREQ=YEARLY;INTERVAL=1;BYDAY=-1SU;BYMONTH=3
END:DAYLIGHT
BEGIN:STANDARD
TZOFFSETFROM:+0200
TZOFFSETTO:+0100
TZNAME:CET
DTSTART:19701025T030000
RRULE:FREQ=YEARLY;INTERVAL=1;BYDAY=-1SU;BYMONTH=10
END:STANDARD
END:VTIMEZONE
BEGIN:VEVENT
UID:c2765614b1d977ae3cac8ed3c5b512ba@patricia-peveling.de
URL;VALUE=URI:https://patricia-peveling.de/termine/ob-mammolshain/
LOCATION:Dorfgemeinschaftshaus Mammolshain, 61462 Königstein im Taunus, 
 Dorfgemeinschaftshaus Mammolshain
SUMMARY:OB Mammolshain
DESCRIPTION;ALTREP="data:text/html,%3Cp%3ELink%20zur%20Tagesordnung%3A%20
 https%3A%2F%2Frim.ekom21.de%2Fkoenigstein%2Ftops%2F%3F__%3DUGhVM0hpd2NXNF
 dFcExjZZdDzFC3UsPD3p0B3rR7Z5Y%3C%2Fp%3E":Link zur Tagesordnung: https://r
 im.ekom21.de/koenigstein/tops/?__=UGhVM0hpd2NXNFdFcExjZZdDzFC3UsPD3p0B3rR
 7Z5Y
CLASS:PUBLIC
DTSTART;TZID=Europe/Berlin:20260824T200000
DTEND;TZID=Europe/Berlin:20260824T220000
DTSTAMP:20260424T184148
END:VEVENT
END:VCALENDAR