BEGIN:VCALENDAR
VERSION:2.0
PRODID:patricia-peveling.de
METHOD:PUBLISH
BEGIN:VTIMEZONE
TZID:Europe/Berlin
X-LIC-LOCATION:Europe/Berlin
BEGIN:DAYLIGHT
TZOFFSETFROM:+0100
TZOFFSETTO:+0200
TZNAME:CEST
DTSTART:19700329T020000
RRULE:FREQ=YEARLY;INTERVAL=1;BYDAY=-1SU;BYMONTH=3
END:DAYLIGHT
BEGIN:STANDARD
TZOFFSETFROM:+0200
TZOFFSETTO:+0100
TZNAME:CET
DTSTART:19701025T030000
RRULE:FREQ=YEARLY;INTERVAL=1;BYDAY=-1SU;BYMONTH=10
END:STANDARD
END:VTIMEZONE
BEGIN:VEVENT
UID:a2c3c4cb6be643dbe39cf572e08d3ad6@patricia-peveling.de
URL;VALUE=URI:https://patricia-peveling.de/termine/ob-mammolshain-2/
LOCATION:Dorfgemeinschaftshaus Mammolshain, 61462 Königstein im Taunus, 
 Dorfgemeinschaftshaus Mammolshain
SUMMARY:OB Mammolshain
DESCRIPTION;ALTREP="data:text/html,%3Cp%3ELink%20zur%20Tagesordnung%3A%20
 https%3A%2F%2Frim.ekom21.de%2Fkoenigstein%2Ftops%2F%3F__%3DUGhVM0hpd2NXNF
 dFcExjZUr4c9T7LC5YWi5yJiZjbU4%3Cbr%20%2F%3E%0A%3Cbr%20%2F%3E%0ABemerkung%
 3A%3Cbr%20%2F%3E%0AKonstituierung%3C%2Fp%3E":Link zur Tagesordnung: https
 ://rim.ekom21.de/koenigstein/tops/?__=UGhVM0hpd2NXNFdFcExjZUr4c9T7LC5YWi5
 yJiZjbU4\n\nBemerkung:\n\nKonstituierung
CLASS:PUBLIC
DTSTART;TZID=Europe/Berlin:20260504T200000
DTEND;TZID=Europe/Berlin:20260504T220000
DTSTAMP:20260424T161545
END:VEVENT
END:VCALENDAR